BEGIN:VCALENDAR
VERSION:2.0
PRODID:-//Medina Township - ECPv6.15.20//NONSGML v1.0//EN
CALSCALE:GREGORIAN
METHOD:PUBLISH
X-ORIGINAL-URL:https://www.medinatownship.org
X-WR-CALDESC:Events for Medina Township
REFRESH-INTERVAL;VALUE=DURATION:PT1H
X-Robots-Tag:noindex
X-PUBLISHED-TTL:PT1H
BEGIN:VTIMEZONE
TZID:UTC
BEGIN:STANDARD
TZOFFSETFROM:+0000
TZOFFSETTO:+0000
TZNAME:UTC
DTSTART:20250101T000000
END:STANDARD
END:VTIMEZONE
BEGIN:VEVENT
DTSTART;TZID=UTC:20260311T180000
DTEND;TZID=UTC:20260311T200000
DTSTAMP:20260419T141038
CREATED:20250216T192759Z
LAST-MODIFIED:20250216T192759Z
UID:4993-1773252000-1773259200@www.medinatownship.org
SUMMARY:March Board Meeting
DESCRIPTION:
URL:https://www.medinatownship.org/event/march-board-meeting-7/
LOCATION:Medina Township Hall\, 10628 North Galena Road\, Mossville\, IL\, 61552\, United States
CATEGORIES:Board Meeting,Regular Board Meeting
ATTACH;FMTTYPE=image/jpeg:https://www.medinatownship.org/wp-content/uploads/2018/04/qtq80-1A44l7.jpeg
END:VEVENT
END:VCALENDAR